BEGIN:VCALENDAR
VERSION:2.0
PRODID:-//AudioTheme 1.8.2
BEGIN:VEVENT
UID:https://daveinsley.com/?post_type=audiotheme_gig&#038;p=1654
URL:https://daveinsley.com/shows/sams-town-pointe/
DTSTART;TZID=GMT:20260124T020000
SUMMARY:Sam's Town Pointe
DESCRIPTION:Dave Insley 8 - 10 pm at Austin's coolest music venue\, Leo Rondeau following from 10 to close
LOCATION:Sam's Town Point\, 2115 Allred\, Austin\, Texas\, 78748
END:VEVENT
END:VCALENDAR